BEGIN:VCALENDAR
VERSION:2.0
PRODID:-//The Bedford Tribune - ECPv6.15.20//NONSGML v1.0//EN
CALSCALE:GREGORIAN
METHOD:PUBLISH
X-ORIGINAL-URL:https://bedfordohio.org
X-WR-CALDESC:Events for The Bedford Tribune
REFRESH-INTERVAL;VALUE=DURATION:PT1H
X-Robots-Tag:noindex
X-PUBLISHED-TTL:PT1H
BEGIN:VTIMEZONE
TZID:America/Detroit
BEGIN:DAYLIGHT
TZOFFSETFROM:-0500
TZOFFSETTO:-0400
TZNAME:EDT
DTSTART:20240310T070000
END:DAYLIGHT
BEGIN:STANDARD
TZOFFSETFROM:-0400
TZOFFSETTO:-0500
TZNAME:EST
DTSTART:20241103T060000
END:STANDARD
BEGIN:DAYLIGHT
TZOFFSETFROM:-0500
TZOFFSETTO:-0400
TZNAME:EDT
DTSTART:20250309T070000
END:DAYLIGHT
BEGIN:STANDARD
TZOFFSETFROM:-0400
TZOFFSETTO:-0500
TZNAME:EST
DTSTART:20251102T060000
END:STANDARD
BEGIN:DAYLIGHT
TZOFFSETFROM:-0500
TZOFFSETTO:-0400
TZNAME:EDT
DTSTART:20260308T070000
END:DAYLIGHT
BEGIN:STANDARD
TZOFFSETFROM:-0400
TZOFFSETTO:-0500
TZNAME:EST
DTSTART:20261101T060000
END:STANDARD
END:VTIMEZONE
BEGIN:VEVENT
DTSTART;TZID=America/Detroit:20251001T150000
DTEND;TZID=America/Detroit:20251001T160000
DTSTAMP:20260423T063503
CREATED:20250919T144648Z
LAST-MODIFIED:20250919T144648Z
UID:16030-1759330800-1759334400@bedfordohio.org
SUMMARY:Kids Café
DESCRIPTION:18 & younger \nKids ages 18 and under can get a FREE lunch provided by the Greater Cleveland Food Bank\, while supplies last.
URL:https://bedfordohio.org/event/kids-cafe-3/2025-10-01/
LOCATION:Cuyahoga County Public Library Bedford Branch\, 70 Columbus Road\, Bedford\, OH\, 44146\, United States
CATEGORIES:Bedford Library,Free,Kids & Family
END:VEVENT
BEGIN:VEVENT
DTSTART;TZID=America/Detroit:20250930T180000
DTEND;TZID=America/Detroit:20250930T190000
DTSTAMP:20260423T063503
CREATED:20250815T143506Z
LAST-MODIFIED:20250820T115503Z
UID:15694-1759255200-1759258800@bedfordohio.org
SUMMARY:Family Storytime
DESCRIPTION:All ages with caregiver \nJoin us for a music and movement storytime\, with stories\, songs and fingerplays.
URL:https://bedfordohio.org/event/family-storytime-13/2025-09-30/
LOCATION:Cuyahoga County Public Library Bedford Branch\, 70 Columbus Road\, Bedford\, OH\, 44146\, United States
CATEGORIES:Bedford Library,Free,Kids & Family
END:VEVENT
BEGIN:VEVENT
DTSTART;TZID=America/Detroit:20250930T160000
DTEND;TZID=America/Detroit:20250930T183000
DTSTAMP:20260423T063503
CREATED:20250815T143135Z
LAST-MODIFIED:20250815T143135Z
UID:15684-1759248000-1759257000@bedfordohio.org
SUMMARY:Student Success Center
DESCRIPTION:K-8th \nSince 2002\, our FREE Student Success Center’s program has helped thousands of students in grades K–8 improve their grades and subject comprehension. Student Success Centers are available at 10 branches. Students who participate in the program receive homework assistance\nfrom trained tutors in the following subjects: language arts\, math\, reading\, science\, and social studies. MUST REGISTER
URL:https://bedfordohio.org/event/student-success-center-2/2025-09-30/
LOCATION:Cuyahoga County Public Library Bedford Branch\, 70 Columbus Road\, Bedford\, OH\, 44146\, United States
CATEGORIES:Bedford Library,Free,Kids & Family,Registration Required,Schools & Education
END:VEVENT
BEGIN:VEVENT
DTSTART;TZID=America/Detroit:20250930T150000
DTEND;TZID=America/Detroit:20250930T160000
DTSTAMP:20260423T063503
CREATED:20250815T142854Z
LAST-MODIFIED:20250815T142854Z
UID:15664-1759244400-1759248000@bedfordohio.org
SUMMARY:Kids Café
DESCRIPTION:18 & younger \nKids ages 18 and under can get a FREE lunch provided by the Greater Cleveland Food Bank\, while supplies last.
URL:https://bedfordohio.org/event/kids-cafe-2/2025-09-30/
LOCATION:Cuyahoga County Public Library Bedford Branch\, 70 Columbus Road\, Bedford\, OH\, 44146\, United States
CATEGORIES:Bedford Library,Free,Kids & Family
END:VEVENT
BEGIN:VEVENT
DTSTART;TZID=America/Detroit:20250930T100000
DTEND;TZID=America/Detroit:20250930T110000
DTSTAMP:20260423T063503
CREATED:20250815T143336Z
LAST-MODIFIED:20250815T143336Z
UID:15688-1759226400-1759230000@bedfordohio.org
SUMMARY:Family Storytime
DESCRIPTION:All ages with caregiver \nJoin us for a music and movement storytime\, with stories\, songs and fingerplays.
URL:https://bedfordohio.org/event/family-storytime-12/2025-09-30/
LOCATION:Cuyahoga County Public Library Bedford Branch\, 70 Columbus Road\, Bedford\, OH\, 44146\, United States
CATEGORIES:Bedford Library,Free,Kids & Family
END:VEVENT
BEGIN:VEVENT
DTSTART;TZID=America/Detroit:20250929T160000
DTEND;TZID=America/Detroit:20250929T183000
DTSTAMP:20260423T063503
CREATED:20250815T143135Z
LAST-MODIFIED:20250815T143135Z
UID:15683-1759161600-1759170600@bedfordohio.org
SUMMARY:Student Success Center
DESCRIPTION:K-8th \nSince 2002\, our FREE Student Success Center’s program has helped thousands of students in grades K–8 improve their grades and subject comprehension. Student Success Centers are available at 10 branches. Students who participate in the program receive homework assistance\nfrom trained tutors in the following subjects: language arts\, math\, reading\, science\, and social studies. MUST REGISTER
URL:https://bedfordohio.org/event/student-success-center-2/2025-09-29/
LOCATION:Cuyahoga County Public Library Bedford Branch\, 70 Columbus Road\, Bedford\, OH\, 44146\, United States
CATEGORIES:Bedford Library,Free,Kids & Family,Registration Required,Schools & Education
END:VEVENT
BEGIN:VEVENT
DTSTART;TZID=America/Detroit:20250929T150000
DTEND;TZID=America/Detroit:20250929T160000
DTSTAMP:20260423T063503
CREATED:20250815T142854Z
LAST-MODIFIED:20250815T142854Z
UID:15662-1759158000-1759161600@bedfordohio.org
SUMMARY:Kids Café
DESCRIPTION:18 & younger \nKids ages 18 and under can get a FREE lunch provided by the Greater Cleveland Food Bank\, while supplies last.
URL:https://bedfordohio.org/event/kids-cafe-2/2025-09-29/
LOCATION:Cuyahoga County Public Library Bedford Branch\, 70 Columbus Road\, Bedford\, OH\, 44146\, United States
CATEGORIES:Bedford Library,Free,Kids & Family
END:VEVENT
BEGIN:VEVENT
DTSTART;TZID=America/Detroit:20250927T140000
DTEND;TZID=America/Detroit:20250927T150000
DTSTAMP:20260423T063503
CREATED:20250815T150118Z
LAST-MODIFIED:20250815T150118Z
UID:15729-1758981600-1758985200@bedfordohio.org
SUMMARY:Geode Skull Craft
DESCRIPTION:Adults and Teens \nLearn to transform a plastic skull into a crystal-filled work of art. This program is designed for adults and teens age 12 and up. MUST REGISTER
URL:https://bedfordohio.org/event/geode-skull-craft/
LOCATION:Cuyahoga County Public Library Bedford Branch\, 70 Columbus Road\, Bedford\, OH\, 44146\, United States
CATEGORIES:Arts & Culture,Bedford Library,Free
END:VEVENT
BEGIN:VEVENT
DTSTART;TZID=America/Detroit:20250926T160000
DTEND;TZID=America/Detroit:20250926T170000
DTSTAMP:20260423T063503
CREATED:20250815T144112Z
LAST-MODIFIED:20250815T144112Z
UID:15703-1758902400-1758906000@bedfordohio.org
SUMMARY:Pokémon TCG Club 
DESCRIPTION:Join our weekly Pokémon Trading Card Game Club and dive into a world of strategy and fun. Learn how to play and meet fellow fans in a friendly\, welcoming environment. Bring your cards or use ours!
URL:https://bedfordohio.org/event/pokemon-tcg-club/2025-09-26/
LOCATION:Cuyahoga County Public Library Bedford Branch\, 70 Columbus Road\, Bedford\, OH\, 44146\, United States
CATEGORIES:Bedford Library,Free,Kids & Family
END:VEVENT
BEGIN:VEVENT
DTSTART;TZID=America/Detroit:20250926T150000
DTEND;TZID=America/Detroit:20250926T160000
DTSTAMP:20260423T063503
CREATED:20250815T142854Z
LAST-MODIFIED:20250815T142854Z
UID:15661-1758898800-1758902400@bedfordohio.org
SUMMARY:Kids Café
DESCRIPTION:18 & younger \nKids ages 18 and under can get a FREE lunch provided by the Greater Cleveland Food Bank\, while supplies last.
URL:https://bedfordohio.org/event/kids-cafe-2/2025-09-26/
LOCATION:Cuyahoga County Public Library Bedford Branch\, 70 Columbus Road\, Bedford\, OH\, 44146\, United States
CATEGORIES:Bedford Library,Free,Kids & Family
END:VEVENT
BEGIN:VEVENT
DTSTART;TZID=America/Detroit:20250925T190000
DTEND;TZID=America/Detroit:20250925T200000
DTSTAMP:20260423T063503
CREATED:20250815T150012Z
LAST-MODIFIED:20250815T150012Z
UID:15727-1758826800-1758830400@bedfordohio.org
SUMMARY:The African American Authors Book Group  
DESCRIPTION:In-Person or Virtual —All Adults Are Welcome \nThe African American Authors Book Group meets the last Thursday of the month. All Adults Are Welcome. The September Title: Black Folk: The Roots of the Black Working Class by Dr. Blair L.M. Kelley.
URL:https://bedfordohio.org/event/the-african-american-authors-book-group-3/
LOCATION:Cuyahoga County Public Library Bedford Branch\, 70 Columbus Road\, Bedford\, OH\, 44146\, United States
CATEGORIES:Bedford Library,Free
END:VEVENT
BEGIN:VEVENT
DTSTART;TZID=America/Detroit:20250925T160000
DTEND;TZID=America/Detroit:20250925T183000
DTSTAMP:20260423T063503
CREATED:20250815T143135Z
LAST-MODIFIED:20250815T143135Z
UID:15682-1758816000-1758825000@bedfordohio.org
SUMMARY:Student Success Center
DESCRIPTION:K-8th \nSince 2002\, our FREE Student Success Center’s program has helped thousands of students in grades K–8 improve their grades and subject comprehension. Student Success Centers are available at 10 branches. Students who participate in the program receive homework assistance\nfrom trained tutors in the following subjects: language arts\, math\, reading\, science\, and social studies. MUST REGISTER
URL:https://bedfordohio.org/event/student-success-center-2/2025-09-25/
LOCATION:Cuyahoga County Public Library Bedford Branch\, 70 Columbus Road\, Bedford\, OH\, 44146\, United States
CATEGORIES:Bedford Library,Free,Kids & Family,Registration Required,Schools & Education
END:VEVENT
BEGIN:VEVENT
DTSTART;TZID=America/Detroit:20250925T153000
DTEND;TZID=America/Detroit:20250925T163000
DTSTAMP:20260423T063503
CREATED:20250815T144614Z
LAST-MODIFIED:20250815T144614Z
UID:15710-1758814200-1758817800@bedfordohio.org
SUMMARY:Engineering Hour
DESCRIPTION:Grades 1 -5 \nBring your creativity and dexterity for an hour of building!
URL:https://bedfordohio.org/event/engineering-hour-2/2025-09-25/
LOCATION:Cuyahoga County Public Library Bedford Branch\, 70 Columbus Road\, Bedford\, OH\, 44146\, United States
CATEGORIES:Bedford Library,Free,Kids & Family
END:VEVENT
BEGIN:VEVENT
DTSTART;TZID=America/Detroit:20250925T150000
DTEND;TZID=America/Detroit:20250925T160000
DTSTAMP:20260423T063503
CREATED:20250815T142854Z
LAST-MODIFIED:20250815T142854Z
UID:15660-1758812400-1758816000@bedfordohio.org
SUMMARY:Kids Café
DESCRIPTION:18 & younger \nKids ages 18 and under can get a FREE lunch provided by the Greater Cleveland Food Bank\, while supplies last.
URL:https://bedfordohio.org/event/kids-cafe-2/2025-09-25/
LOCATION:Cuyahoga County Public Library Bedford Branch\, 70 Columbus Road\, Bedford\, OH\, 44146\, United States
CATEGORIES:Bedford Library,Free,Kids & Family
END:VEVENT
BEGIN:VEVENT
DTSTART;TZID=America/Detroit:20250924T160000
DTEND;TZID=America/Detroit:20250924T183000
DTSTAMP:20260423T063503
CREATED:20250815T143135Z
LAST-MODIFIED:20250815T143135Z
UID:15681-1758729600-1758738600@bedfordohio.org
SUMMARY:Student Success Center
DESCRIPTION:K-8th \nSince 2002\, our FREE Student Success Center’s program has helped thousands of students in grades K–8 improve their grades and subject comprehension. Student Success Centers are available at 10 branches. Students who participate in the program receive homework assistance\nfrom trained tutors in the following subjects: language arts\, math\, reading\, science\, and social studies. MUST REGISTER
URL:https://bedfordohio.org/event/student-success-center-2/2025-09-24/
LOCATION:Cuyahoga County Public Library Bedford Branch\, 70 Columbus Road\, Bedford\, OH\, 44146\, United States
CATEGORIES:Bedford Library,Free,Kids & Family,Registration Required,Schools & Education
END:VEVENT
BEGIN:VEVENT
DTSTART;TZID=America/Detroit:20250924T150000
DTEND;TZID=America/Detroit:20250924T160000
DTSTAMP:20260423T063503
CREATED:20250815T142854Z
LAST-MODIFIED:20250815T142854Z
UID:15658-1758726000-1758729600@bedfordohio.org
SUMMARY:Kids Café
DESCRIPTION:18 & younger \nKids ages 18 and under can get a FREE lunch provided by the Greater Cleveland Food Bank\, while supplies last.
URL:https://bedfordohio.org/event/kids-cafe-2/2025-09-24/
LOCATION:Cuyahoga County Public Library Bedford Branch\, 70 Columbus Road\, Bedford\, OH\, 44146\, United States
CATEGORIES:Bedford Library,Free,Kids & Family
END:VEVENT
BEGIN:VEVENT
DTSTART;TZID=America/Detroit:20250923T180000
DTEND;TZID=America/Detroit:20250923T190000
DTSTAMP:20260423T063503
CREATED:20250815T143506Z
LAST-MODIFIED:20250820T115459Z
UID:15693-1758650400-1758654000@bedfordohio.org
SUMMARY:Family Storytime
DESCRIPTION:All ages with caregiver \nJoin us for a music and movement storytime\, with stories\, songs and fingerplays.
URL:https://bedfordohio.org/event/family-storytime-13/2025-09-23/
LOCATION:Cuyahoga County Public Library Bedford Branch\, 70 Columbus Road\, Bedford\, OH\, 44146\, United States
CATEGORIES:Bedford Library,Free,Kids & Family
END:VEVENT
BEGIN:VEVENT
DTSTART;TZID=America/Detroit:20250923T160000
DTEND;TZID=America/Detroit:20250923T183000
DTSTAMP:20260423T063503
CREATED:20250815T143135Z
LAST-MODIFIED:20250815T143135Z
UID:15680-1758643200-1758652200@bedfordohio.org
SUMMARY:Student Success Center
DESCRIPTION:K-8th \nSince 2002\, our FREE Student Success Center’s program has helped thousands of students in grades K–8 improve their grades and subject comprehension. Student Success Centers are available at 10 branches. Students who participate in the program receive homework assistance\nfrom trained tutors in the following subjects: language arts\, math\, reading\, science\, and social studies. MUST REGISTER
URL:https://bedfordohio.org/event/student-success-center-2/2025-09-23/
LOCATION:Cuyahoga County Public Library Bedford Branch\, 70 Columbus Road\, Bedford\, OH\, 44146\, United States
CATEGORIES:Bedford Library,Free,Kids & Family,Registration Required,Schools & Education
END:VEVENT
BEGIN:VEVENT
DTSTART;TZID=America/Detroit:20250923T150000
DTEND;TZID=America/Detroit:20250923T160000
DTSTAMP:20260423T063503
CREATED:20250815T142854Z
LAST-MODIFIED:20250815T142854Z
UID:15657-1758639600-1758643200@bedfordohio.org
SUMMARY:Kids Café
DESCRIPTION:18 & younger \nKids ages 18 and under can get a FREE lunch provided by the Greater Cleveland Food Bank\, while supplies last.
URL:https://bedfordohio.org/event/kids-cafe-2/2025-09-23/
LOCATION:Cuyahoga County Public Library Bedford Branch\, 70 Columbus Road\, Bedford\, OH\, 44146\, United States
CATEGORIES:Bedford Library,Free,Kids & Family
END:VEVENT
BEGIN:VEVENT
DTSTART;TZID=America/Detroit:20250923T100000
DTEND;TZID=America/Detroit:20250923T110000
DTSTAMP:20260423T063503
CREATED:20250815T143336Z
LAST-MODIFIED:20250815T143336Z
UID:15687-1758621600-1758625200@bedfordohio.org
SUMMARY:Family Storytime
DESCRIPTION:All ages with caregiver \nJoin us for a music and movement storytime\, with stories\, songs and fingerplays.
URL:https://bedfordohio.org/event/family-storytime-12/2025-09-23/
LOCATION:Cuyahoga County Public Library Bedford Branch\, 70 Columbus Road\, Bedford\, OH\, 44146\, United States
CATEGORIES:Bedford Library,Free,Kids & Family
END:VEVENT
BEGIN:VEVENT
DTSTART;TZID=America/Detroit:20250922T183000
DTEND;TZID=America/Detroit:20250922T193000
DTSTAMP:20260423T063503
CREATED:20250815T145849Z
LAST-MODIFIED:20250815T145849Z
UID:15725-1758565800-1758569400@bedfordohio.org
SUMMARY:Magic Tree House Mondays
DESCRIPTION:Grades 2 – 4 \nJoin us as we explore Mary Pope Osborne’s classic series. Pirates Past Noon on 9/22. MUST REGISTER
URL:https://bedfordohio.org/event/magic-tree-house-mondays/
LOCATION:Cuyahoga County Public Library Bedford Branch\, 70 Columbus Road\, Bedford\, OH\, 44146\, United States
CATEGORIES:Bedford Library,Free,Kids & Family,Registration Required
END:VEVENT
BEGIN:VEVENT
DTSTART;TZID=America/Detroit:20250922T160000
DTEND;TZID=America/Detroit:20250922T183000
DTSTAMP:20260423T063503
CREATED:20250815T143135Z
LAST-MODIFIED:20250815T143135Z
UID:15679-1758556800-1758565800@bedfordohio.org
SUMMARY:Student Success Center
DESCRIPTION:K-8th \nSince 2002\, our FREE Student Success Center’s program has helped thousands of students in grades K–8 improve their grades and subject comprehension. Student Success Centers are available at 10 branches. Students who participate in the program receive homework assistance\nfrom trained tutors in the following subjects: language arts\, math\, reading\, science\, and social studies. MUST REGISTER
URL:https://bedfordohio.org/event/student-success-center-2/2025-09-22/
LOCATION:Cuyahoga County Public Library Bedford Branch\, 70 Columbus Road\, Bedford\, OH\, 44146\, United States
CATEGORIES:Bedford Library,Free,Kids & Family,Registration Required,Schools & Education
END:VEVENT
BEGIN:VEVENT
DTSTART;TZID=America/Detroit:20250922T150000
DTEND;TZID=America/Detroit:20250922T160000
DTSTAMP:20260423T063503
CREATED:20250815T142854Z
LAST-MODIFIED:20250815T142854Z
UID:15656-1758553200-1758556800@bedfordohio.org
SUMMARY:Kids Café
DESCRIPTION:18 & younger \nKids ages 18 and under can get a FREE lunch provided by the Greater Cleveland Food Bank\, while supplies last.
URL:https://bedfordohio.org/event/kids-cafe-2/2025-09-22/
LOCATION:Cuyahoga County Public Library Bedford Branch\, 70 Columbus Road\, Bedford\, OH\, 44146\, United States
CATEGORIES:Bedford Library,Free,Kids & Family
END:VEVENT
BEGIN:VEVENT
DTSTART;TZID=America/Detroit:20250919T160000
DTEND;TZID=America/Detroit:20250919T170000
DTSTAMP:20260423T063503
CREATED:20250815T144112Z
LAST-MODIFIED:20250815T144112Z
UID:15702-1758297600-1758301200@bedfordohio.org
SUMMARY:Pokémon TCG Club 
DESCRIPTION:Join our weekly Pokémon Trading Card Game Club and dive into a world of strategy and fun. Learn how to play and meet fellow fans in a friendly\, welcoming environment. Bring your cards or use ours!
URL:https://bedfordohio.org/event/pokemon-tcg-club/2025-09-19/
LOCATION:Cuyahoga County Public Library Bedford Branch\, 70 Columbus Road\, Bedford\, OH\, 44146\, United States
CATEGORIES:Bedford Library,Free,Kids & Family
END:VEVENT
BEGIN:VEVENT
DTSTART;TZID=America/Detroit:20250919T150000
DTEND;TZID=America/Detroit:20250919T160000
DTSTAMP:20260423T063503
CREATED:20250815T142854Z
LAST-MODIFIED:20250815T142854Z
UID:15655-1758294000-1758297600@bedfordohio.org
SUMMARY:Kids Café
DESCRIPTION:18 & younger \nKids ages 18 and under can get a FREE lunch provided by the Greater Cleveland Food Bank\, while supplies last.
URL:https://bedfordohio.org/event/kids-cafe-2/2025-09-19/
LOCATION:Cuyahoga County Public Library Bedford Branch\, 70 Columbus Road\, Bedford\, OH\, 44146\, United States
CATEGORIES:Bedford Library,Free,Kids & Family
END:VEVENT
BEGIN:VEVENT
DTSTART;VALUE=DATE:20250919
DTEND;VALUE=DATE:20250920
DTSTAMP:20260423T063503
CREATED:20250815T145717Z
LAST-MODIFIED:20250815T145717Z
UID:15723-1758240000-1758326399@bedfordohio.org
SUMMARY:Stuffed Animal Sleepover
DESCRIPTION:ALL DAY \nDrop your stuffed friends off at the Bedford Branch so they can enjoy a library slumber party. Pick them up at the next storytime\, September 23\, along with library swag and photos from the sleepover. You can also drop stuffed animals off during the parenting class on Bedtime on\nSeptember 18th.
URL:https://bedfordohio.org/event/stuffed-animal-sleepover/
LOCATION:Cuyahoga County Public Library Bedford Branch\, 70 Columbus Road\, Bedford\, OH\, 44146\, United States
CATEGORIES:Bedford Library,Free,Kids & Family
END:VEVENT
BEGIN:VEVENT
DTSTART;TZID=America/Detroit:20250918T190000
DTEND;TZID=America/Detroit:20250918T200000
DTSTAMP:20260423T063503
CREATED:20250815T145534Z
LAST-MODIFIED:20250815T145534Z
UID:15721-1758222000-1758225600@bedfordohio.org
SUMMARY:Triple P Presents: Bedtime
DESCRIPTION:School Starts Early — So Should Bedtime! (Here’s How) \nThis group addresses common bedtime challenges and their underlying causes. It explores the skills children need to develop a healthy bedtime routine (especially for school time!) and evidence-based strategies to help them stay in bed throughout the night. The Triple P\ndiscussion groups are designed to provide an overview of positive parenting principles for parents of children ages birth to 12. MUST REGISTER
URL:https://bedfordohio.org/event/triple-p-presents-bedtime/
LOCATION:Cuyahoga County Public Library Bedford Branch\, 70 Columbus Road\, Bedford\, OH\, 44146\, United States
CATEGORIES:Bedford Library,Free,Registration Required
END:VEVENT
BEGIN:VEVENT
DTSTART;TZID=America/Detroit:20250918T160000
DTEND;TZID=America/Detroit:20250918T183000
DTSTAMP:20260423T063503
CREATED:20250815T143135Z
LAST-MODIFIED:20250815T143135Z
UID:15677-1758211200-1758220200@bedfordohio.org
SUMMARY:Student Success Center
DESCRIPTION:K-8th \nSince 2002\, our FREE Student Success Center’s program has helped thousands of students in grades K–8 improve their grades and subject comprehension. Student Success Centers are available at 10 branches. Students who participate in the program receive homework assistance\nfrom trained tutors in the following subjects: language arts\, math\, reading\, science\, and social studies. MUST REGISTER
URL:https://bedfordohio.org/event/student-success-center-2/2025-09-18/
LOCATION:Cuyahoga County Public Library Bedford Branch\, 70 Columbus Road\, Bedford\, OH\, 44146\, United States
CATEGORIES:Bedford Library,Free,Kids & Family,Registration Required,Schools & Education
END:VEVENT
BEGIN:VEVENT
DTSTART;TZID=America/Detroit:20250918T150000
DTEND;TZID=America/Detroit:20250918T160000
DTSTAMP:20260423T063503
CREATED:20250815T142854Z
LAST-MODIFIED:20250815T142854Z
UID:15654-1758207600-1758211200@bedfordohio.org
SUMMARY:Kids Café
DESCRIPTION:18 & younger \nKids ages 18 and under can get a FREE lunch provided by the Greater Cleveland Food Bank\, while supplies last.
URL:https://bedfordohio.org/event/kids-cafe-2/2025-09-18/
LOCATION:Cuyahoga County Public Library Bedford Branch\, 70 Columbus Road\, Bedford\, OH\, 44146\, United States
CATEGORIES:Bedford Library,Free,Kids & Family
END:VEVENT
BEGIN:VEVENT
DTSTART;TZID=America/Detroit:20250917T160000
DTEND;TZID=America/Detroit:20250917T183000
DTSTAMP:20260423T063503
CREATED:20250815T143135Z
LAST-MODIFIED:20250815T143135Z
UID:15676-1758124800-1758133800@bedfordohio.org
SUMMARY:Student Success Center
DESCRIPTION:K-8th \nSince 2002\, our FREE Student Success Center’s program has helped thousands of students in grades K–8 improve their grades and subject comprehension. Student Success Centers are available at 10 branches. Students who participate in the program receive homework assistance\nfrom trained tutors in the following subjects: language arts\, math\, reading\, science\, and social studies. MUST REGISTER
URL:https://bedfordohio.org/event/student-success-center-2/2025-09-17/
LOCATION:Cuyahoga County Public Library Bedford Branch\, 70 Columbus Road\, Bedford\, OH\, 44146\, United States
CATEGORIES:Bedford Library,Free,Kids & Family,Registration Required,Schools & Education
END:VEVENT
END:VCALENDAR