BEGIN:VCALENDAR
VERSION:2.0
PRODID:-//The Bedford Tribune - ECPv6.15.20//NONSGML v1.0//EN
CALSCALE:GREGORIAN
METHOD:PUBLISH
X-ORIGINAL-URL:https://bedfordohio.org
X-WR-CALDESC:Events for The Bedford Tribune
REFRESH-INTERVAL;VALUE=DURATION:PT1H
X-Robots-Tag:noindex
X-PUBLISHED-TTL:PT1H
BEGIN:VTIMEZONE
TZID:America/Detroit
BEGIN:DAYLIGHT
TZOFFSETFROM:-0500
TZOFFSETTO:-0400
TZNAME:EDT
DTSTART:20240310T070000
END:DAYLIGHT
BEGIN:STANDARD
TZOFFSETFROM:-0400
TZOFFSETTO:-0500
TZNAME:EST
DTSTART:20241103T060000
END:STANDARD
BEGIN:DAYLIGHT
TZOFFSETFROM:-0500
TZOFFSETTO:-0400
TZNAME:EDT
DTSTART:20250309T070000
END:DAYLIGHT
BEGIN:STANDARD
TZOFFSETFROM:-0400
TZOFFSETTO:-0500
TZNAME:EST
DTSTART:20251102T060000
END:STANDARD
BEGIN:DAYLIGHT
TZOFFSETFROM:-0500
TZOFFSETTO:-0400
TZNAME:EDT
DTSTART:20260308T070000
END:DAYLIGHT
BEGIN:STANDARD
TZOFFSETFROM:-0400
TZOFFSETTO:-0500
TZNAME:EST
DTSTART:20261101T060000
END:STANDARD
END:VTIMEZONE
BEGIN:VEVENT
DTSTART;TZID=America/Detroit:20250917T150000
DTEND;TZID=America/Detroit:20250917T160000
DTSTAMP:20260423T114426
CREATED:20250815T142854Z
LAST-MODIFIED:20250815T142854Z
UID:15653-1758121200-1758124800@bedfordohio.org
SUMMARY:Kids Café
DESCRIPTION:18 & younger \nKids ages 18 and under can get a FREE lunch provided by the Greater Cleveland Food Bank\, while supplies last.
URL:https://bedfordohio.org/event/kids-cafe-2/2025-09-17/
LOCATION:Cuyahoga County Public Library Bedford Branch\, 70 Columbus Road\, Bedford\, OH\, 44146\, United States
CATEGORIES:Bedford Library,Free,Kids & Family
END:VEVENT
BEGIN:VEVENT
DTSTART;TZID=America/Detroit:20250917T133000
DTEND;TZID=America/Detroit:20250917T143000
DTSTAMP:20260423T114426
CREATED:20250815T145406Z
LAST-MODIFIED:20250815T145406Z
UID:15719-1758115800-1758119400@bedfordohio.org
SUMMARY:Mobile Pantry
DESCRIPTION:Free\, fresh produce distribution \nThis event will be held rain or shine. Each family will receive 3 pre-packaged boxes of dairy\, meat\, and/or produce for free\, loaded into their vehicle trunk. First come\, first-served basis\, adults of any age\, zip code\, income level. Each vehicle can have up to 4 “families” (such as if\nsingle seniors are riding together). Vehicles are preferred over walk-ups\, for safety reasons.
URL:https://bedfordohio.org/event/mobile-pantry-4/
LOCATION:Cuyahoga County Public Library Bedford Branch\, 70 Columbus Road\, Bedford\, OH\, 44146\, United States
CATEGORIES:Bedford Library,Free
END:VEVENT
BEGIN:VEVENT
DTSTART;TZID=America/Detroit:20250916T180000
DTEND;TZID=America/Detroit:20250916T190000
DTSTAMP:20260423T114426
CREATED:20250815T143506Z
LAST-MODIFIED:20250820T115455Z
UID:15692-1758045600-1758049200@bedfordohio.org
SUMMARY:Family Storytime
DESCRIPTION:All ages with caregiver \nJoin us for a music and movement storytime\, with stories\, songs and fingerplays.
URL:https://bedfordohio.org/event/family-storytime-13/2025-09-16/
LOCATION:Cuyahoga County Public Library Bedford Branch\, 70 Columbus Road\, Bedford\, OH\, 44146\, United States
CATEGORIES:Bedford Library,Free,Kids & Family
END:VEVENT
BEGIN:VEVENT
DTSTART;TZID=America/Detroit:20250916T160000
DTEND;TZID=America/Detroit:20250916T183000
DTSTAMP:20260423T114426
CREATED:20250815T143135Z
LAST-MODIFIED:20250815T143135Z
UID:15675-1758038400-1758047400@bedfordohio.org
SUMMARY:Student Success Center
DESCRIPTION:K-8th \nSince 2002\, our FREE Student Success Center’s program has helped thousands of students in grades K–8 improve their grades and subject comprehension. Student Success Centers are available at 10 branches. Students who participate in the program receive homework assistance\nfrom trained tutors in the following subjects: language arts\, math\, reading\, science\, and social studies. MUST REGISTER
URL:https://bedfordohio.org/event/student-success-center-2/2025-09-16/
LOCATION:Cuyahoga County Public Library Bedford Branch\, 70 Columbus Road\, Bedford\, OH\, 44146\, United States
CATEGORIES:Bedford Library,Free,Kids & Family,Registration Required,Schools & Education
END:VEVENT
BEGIN:VEVENT
DTSTART;TZID=America/Detroit:20250916T150000
DTEND;TZID=America/Detroit:20250916T160000
DTSTAMP:20260423T114426
CREATED:20250815T142854Z
LAST-MODIFIED:20250815T142854Z
UID:15652-1758034800-1758038400@bedfordohio.org
SUMMARY:Kids Café
DESCRIPTION:18 & younger \nKids ages 18 and under can get a FREE lunch provided by the Greater Cleveland Food Bank\, while supplies last.
URL:https://bedfordohio.org/event/kids-cafe-2/2025-09-16/
LOCATION:Cuyahoga County Public Library Bedford Branch\, 70 Columbus Road\, Bedford\, OH\, 44146\, United States
CATEGORIES:Bedford Library,Free,Kids & Family
END:VEVENT
BEGIN:VEVENT
DTSTART;TZID=America/Detroit:20250916T100000
DTEND;TZID=America/Detroit:20250916T110000
DTSTAMP:20260423T114426
CREATED:20250815T143336Z
LAST-MODIFIED:20250815T143336Z
UID:15686-1758016800-1758020400@bedfordohio.org
SUMMARY:Family Storytime
DESCRIPTION:All ages with caregiver \nJoin us for a music and movement storytime\, with stories\, songs and fingerplays.
URL:https://bedfordohio.org/event/family-storytime-12/2025-09-16/
LOCATION:Cuyahoga County Public Library Bedford Branch\, 70 Columbus Road\, Bedford\, OH\, 44146\, United States
CATEGORIES:Bedford Library,Free,Kids & Family
END:VEVENT
BEGIN:VEVENT
DTSTART;TZID=America/Detroit:20250915T160000
DTEND;TZID=America/Detroit:20250915T183000
DTSTAMP:20260423T114426
CREATED:20250815T143135Z
LAST-MODIFIED:20250815T143135Z
UID:15674-1757952000-1757961000@bedfordohio.org
SUMMARY:Student Success Center
DESCRIPTION:K-8th \nSince 2002\, our FREE Student Success Center’s program has helped thousands of students in grades K–8 improve their grades and subject comprehension. Student Success Centers are available at 10 branches. Students who participate in the program receive homework assistance\nfrom trained tutors in the following subjects: language arts\, math\, reading\, science\, and social studies. MUST REGISTER
URL:https://bedfordohio.org/event/student-success-center-2/2025-09-15/
LOCATION:Cuyahoga County Public Library Bedford Branch\, 70 Columbus Road\, Bedford\, OH\, 44146\, United States
CATEGORIES:Bedford Library,Free,Kids & Family,Registration Required,Schools & Education
END:VEVENT
BEGIN:VEVENT
DTSTART;TZID=America/Detroit:20250915T150000
DTEND;TZID=America/Detroit:20250915T160000
DTSTAMP:20260423T114426
CREATED:20250815T142854Z
LAST-MODIFIED:20250815T142854Z
UID:15650-1757948400-1757952000@bedfordohio.org
SUMMARY:Kids Café
DESCRIPTION:18 & younger \nKids ages 18 and under can get a FREE lunch provided by the Greater Cleveland Food Bank\, while supplies last.
URL:https://bedfordohio.org/event/kids-cafe-2/2025-09-15/
LOCATION:Cuyahoga County Public Library Bedford Branch\, 70 Columbus Road\, Bedford\, OH\, 44146\, United States
CATEGORIES:Bedford Library,Free,Kids & Family
END:VEVENT
BEGIN:VEVENT
DTSTART;TZID=America/Detroit:20250913T150000
DTEND;TZID=America/Detroit:20250913T160000
DTSTAMP:20260423T114426
CREATED:20250815T145250Z
LAST-MODIFIED:20250815T145250Z
UID:15717-1757775600-1757779200@bedfordohio.org
SUMMARY:Family History: Intergenerational Genealogy Exploration
DESCRIPTION:Children 8+ with Adult \nHow do you get started with family history? Learn about your family history using FamilySearch and Ancestry. Over the course of three months\, children and adults will work together to learn about their family history. We will be focusing on gathering information to build your family tree online. A valid email address is required. Children must be accompanied by an adult (over the age of 18). MUST REGISTER
URL:https://bedfordohio.org/event/family-history-intergenerational-genealogy-exploration/
LOCATION:Cuyahoga County Public Library Bedford Branch\, 70 Columbus Road\, Bedford\, OH\, 44146\, United States
CATEGORIES:Bedford Library,Free,Kids & Family,Registration Required
END:VEVENT
BEGIN:VEVENT
DTSTART;TZID=America/Detroit:20250913T140000
DTEND;TZID=America/Detroit:20250913T150000
DTSTAMP:20260423T114426
CREATED:20250815T145104Z
LAST-MODIFIED:20250815T145104Z
UID:15715-1757772000-1757775600@bedfordohio.org
SUMMARY:Self-Care Saturday
DESCRIPTION:Teen \nEase your mind with calming activities. Art\, yoga\, writing\, meditation\, and more! Comfy clothes recommended. A release form must be completed by a parent/guardian before the program to participate. Yoga mats are provided. This is for grades 6-12. MUST REGISTER
URL:https://bedfordohio.org/event/self-care-saturday-6/
LOCATION:Cuyahoga County Public Library Bedford Branch\, 70 Columbus Road\, Bedford\, OH\, 44146\, United States
CATEGORIES:Bedford Library,Free
END:VEVENT
BEGIN:VEVENT
DTSTART;TZID=America/Detroit:20250912T160000
DTEND;TZID=America/Detroit:20250912T170000
DTSTAMP:20260423T114426
CREATED:20250815T144112Z
LAST-MODIFIED:20250815T144112Z
UID:15701-1757692800-1757696400@bedfordohio.org
SUMMARY:Pokémon TCG Club 
DESCRIPTION:Join our weekly Pokémon Trading Card Game Club and dive into a world of strategy and fun. Learn how to play and meet fellow fans in a friendly\, welcoming environment. Bring your cards or use ours!
URL:https://bedfordohio.org/event/pokemon-tcg-club/2025-09-12/
LOCATION:Cuyahoga County Public Library Bedford Branch\, 70 Columbus Road\, Bedford\, OH\, 44146\, United States
CATEGORIES:Bedford Library,Free,Kids & Family
END:VEVENT
BEGIN:VEVENT
DTSTART;TZID=America/Detroit:20250912T150000
DTEND;TZID=America/Detroit:20250912T160000
DTSTAMP:20260423T114426
CREATED:20250815T142854Z
LAST-MODIFIED:20250815T142854Z
UID:15649-1757689200-1757692800@bedfordohio.org
SUMMARY:Kids Café
DESCRIPTION:18 & younger \nKids ages 18 and under can get a FREE lunch provided by the Greater Cleveland Food Bank\, while supplies last.
URL:https://bedfordohio.org/event/kids-cafe-2/2025-09-12/
LOCATION:Cuyahoga County Public Library Bedford Branch\, 70 Columbus Road\, Bedford\, OH\, 44146\, United States
CATEGORIES:Bedford Library,Free,Kids & Family
END:VEVENT
BEGIN:VEVENT
DTSTART;TZID=America/Detroit:20250912T100000
DTEND;TZID=America/Detroit:20250912T110000
DTSTAMP:20260423T114426
CREATED:20250815T144810Z
LAST-MODIFIED:20250815T144839Z
UID:15712-1757671200-1757674800@bedfordohio.org
SUMMARY:Excel Basics ★ 
DESCRIPTION:Learn the essentials of Excel. Topics include entering data\, using autofill and performing calculations using basic formulas and functions. Prerequisite: Computer Basics or equivalent experience. MUST REGISTER
URL:https://bedfordohio.org/event/excel-basics-%e2%98%85/
LOCATION:Cuyahoga County Public Library Bedford Branch\, 70 Columbus Road\, Bedford\, OH\, 44146\, United States
CATEGORIES:Bedford Library,Free,Registration Required,Schools & Education
END:VEVENT
BEGIN:VEVENT
DTSTART;TZID=America/Detroit:20250911T160000
DTEND;TZID=America/Detroit:20250911T183000
DTSTAMP:20260423T114426
CREATED:20250815T143135Z
LAST-MODIFIED:20250815T143135Z
UID:15673-1757606400-1757615400@bedfordohio.org
SUMMARY:Student Success Center
DESCRIPTION:K-8th \nSince 2002\, our FREE Student Success Center’s program has helped thousands of students in grades K–8 improve their grades and subject comprehension. Student Success Centers are available at 10 branches. Students who participate in the program receive homework assistance\nfrom trained tutors in the following subjects: language arts\, math\, reading\, science\, and social studies. MUST REGISTER
URL:https://bedfordohio.org/event/student-success-center-2/2025-09-11/
LOCATION:Cuyahoga County Public Library Bedford Branch\, 70 Columbus Road\, Bedford\, OH\, 44146\, United States
CATEGORIES:Bedford Library,Free,Kids & Family,Registration Required,Schools & Education
END:VEVENT
BEGIN:VEVENT
DTSTART;TZID=America/Detroit:20250911T153000
DTEND;TZID=America/Detroit:20250911T163000
DTSTAMP:20260423T114426
CREATED:20250815T144614Z
LAST-MODIFIED:20250815T144614Z
UID:15709-1757604600-1757608200@bedfordohio.org
SUMMARY:Engineering Hour
DESCRIPTION:Grades 1 -5 \nBring your creativity and dexterity for an hour of building!
URL:https://bedfordohio.org/event/engineering-hour-2/2025-09-11/
LOCATION:Cuyahoga County Public Library Bedford Branch\, 70 Columbus Road\, Bedford\, OH\, 44146\, United States
CATEGORIES:Bedford Library,Free,Kids & Family
END:VEVENT
BEGIN:VEVENT
DTSTART;TZID=America/Detroit:20250911T150000
DTEND;TZID=America/Detroit:20250911T160000
DTSTAMP:20260423T114426
CREATED:20250815T142854Z
LAST-MODIFIED:20250815T142854Z
UID:15648-1757602800-1757606400@bedfordohio.org
SUMMARY:Kids Café
DESCRIPTION:18 & younger \nKids ages 18 and under can get a FREE lunch provided by the Greater Cleveland Food Bank\, while supplies last.
URL:https://bedfordohio.org/event/kids-cafe-2/2025-09-11/
LOCATION:Cuyahoga County Public Library Bedford Branch\, 70 Columbus Road\, Bedford\, OH\, 44146\, United States
CATEGORIES:Bedford Library,Free,Kids & Family
END:VEVENT
BEGIN:VEVENT
DTSTART;TZID=America/Detroit:20250910T160000
DTEND;TZID=America/Detroit:20250910T183000
DTSTAMP:20260423T114426
CREATED:20250815T143135Z
LAST-MODIFIED:20250815T143135Z
UID:15672-1757520000-1757529000@bedfordohio.org
SUMMARY:Student Success Center
DESCRIPTION:K-8th \nSince 2002\, our FREE Student Success Center’s program has helped thousands of students in grades K–8 improve their grades and subject comprehension. Student Success Centers are available at 10 branches. Students who participate in the program receive homework assistance\nfrom trained tutors in the following subjects: language arts\, math\, reading\, science\, and social studies. MUST REGISTER
URL:https://bedfordohio.org/event/student-success-center-2/2025-09-10/
LOCATION:Cuyahoga County Public Library Bedford Branch\, 70 Columbus Road\, Bedford\, OH\, 44146\, United States
CATEGORIES:Bedford Library,Free,Kids & Family,Registration Required,Schools & Education
END:VEVENT
BEGIN:VEVENT
DTSTART;TZID=America/Detroit:20250910T150000
DTEND;TZID=America/Detroit:20250910T160000
DTSTAMP:20260423T114426
CREATED:20250815T142854Z
LAST-MODIFIED:20250815T142854Z
UID:15647-1757516400-1757520000@bedfordohio.org
SUMMARY:Kids Café
DESCRIPTION:18 & younger \nKids ages 18 and under can get a FREE lunch provided by the Greater Cleveland Food Bank\, while supplies last.
URL:https://bedfordohio.org/event/kids-cafe-2/2025-09-10/
LOCATION:Cuyahoga County Public Library Bedford Branch\, 70 Columbus Road\, Bedford\, OH\, 44146\, United States
CATEGORIES:Bedford Library,Free,Kids & Family
END:VEVENT
BEGIN:VEVENT
DTSTART;TZID=America/Detroit:20250909T180000
DTEND;TZID=America/Detroit:20250909T190000
DTSTAMP:20260423T114426
CREATED:20250815T143506Z
LAST-MODIFIED:20250820T115453Z
UID:15691-1757440800-1757444400@bedfordohio.org
SUMMARY:Family Storytime
DESCRIPTION:All ages with caregiver \nJoin us for a music and movement storytime\, with stories\, songs and fingerplays.
URL:https://bedfordohio.org/event/family-storytime-13/2025-09-09/
LOCATION:Cuyahoga County Public Library Bedford Branch\, 70 Columbus Road\, Bedford\, OH\, 44146\, United States
CATEGORIES:Bedford Library,Free,Kids & Family
END:VEVENT
BEGIN:VEVENT
DTSTART;TZID=America/Detroit:20250909T160000
DTEND;TZID=America/Detroit:20250909T183000
DTSTAMP:20260423T114426
CREATED:20250815T143135Z
LAST-MODIFIED:20250815T143135Z
UID:15671-1757433600-1757442600@bedfordohio.org
SUMMARY:Student Success Center
DESCRIPTION:K-8th \nSince 2002\, our FREE Student Success Center’s program has helped thousands of students in grades K–8 improve their grades and subject comprehension. Student Success Centers are available at 10 branches. Students who participate in the program receive homework assistance\nfrom trained tutors in the following subjects: language arts\, math\, reading\, science\, and social studies. MUST REGISTER
URL:https://bedfordohio.org/event/student-success-center-2/2025-09-09/
LOCATION:Cuyahoga County Public Library Bedford Branch\, 70 Columbus Road\, Bedford\, OH\, 44146\, United States
CATEGORIES:Bedford Library,Free,Kids & Family,Registration Required,Schools & Education
END:VEVENT
BEGIN:VEVENT
DTSTART;TZID=America/Detroit:20250909T160000
DTEND;TZID=America/Detroit:20250909T170000
DTSTAMP:20260423T114426
CREATED:20250815T144446Z
LAST-MODIFIED:20250815T144446Z
UID:15707-1757433600-1757437200@bedfordohio.org
SUMMARY:Brain Gain: Tech Petting Zoo
DESCRIPTION:Teen \nDrop in and gain some new tech skills! Make a quick song with our mobile studio\, animate your drawings with ProCreate\, code a Sphero through a maze\, and more!
URL:https://bedfordohio.org/event/brain-gain-tech-petting-zoo/
LOCATION:Cuyahoga County Public Library Bedford Branch\, 70 Columbus Road\, Bedford\, OH\, 44146\, United States
CATEGORIES:Bedford Library,Free
END:VEVENT
BEGIN:VEVENT
DTSTART;TZID=America/Detroit:20250909T150000
DTEND;TZID=America/Detroit:20250909T160000
DTSTAMP:20260423T114426
CREATED:20250815T142854Z
LAST-MODIFIED:20250815T142854Z
UID:15646-1757430000-1757433600@bedfordohio.org
SUMMARY:Kids Café
DESCRIPTION:18 & younger \nKids ages 18 and under can get a FREE lunch provided by the Greater Cleveland Food Bank\, while supplies last.
URL:https://bedfordohio.org/event/kids-cafe-2/2025-09-09/
LOCATION:Cuyahoga County Public Library Bedford Branch\, 70 Columbus Road\, Bedford\, OH\, 44146\, United States
CATEGORIES:Bedford Library,Free,Kids & Family
END:VEVENT
BEGIN:VEVENT
DTSTART;TZID=America/Detroit:20250909T130000
DTEND;TZID=America/Detroit:20250909T140000
DTSTAMP:20260423T114426
CREATED:20250815T144316Z
LAST-MODIFIED:20250815T144316Z
UID:15705-1757422800-1757426400@bedfordohio.org
SUMMARY:Art to Go: Life\, Death\, and the Afterlife in Ancient Egypt
DESCRIPTION:Adults \nThe Cleveland Museum of Art comes to you! Explore the tombs of ancient Egypt like an archaeologist. Participants handle authentic artifacts from the Cleveland Museum of Art’s collection and learn about mummification\, burial practices\, religion\, and everyday life through these artifacts. Interact with authentic works of art from around the world and across 5\,000 years of human history. We focus on objects as primary source material\, witnesses to history that participants can handle and examine. Guided by their curiosity and wonder\, participants\nmake observations\, form connections\, and generate questions\, while museum educators share information about each object. This is not a lecture; it is a conversation. We want to know your thoughts and ideas! Discussion is highly encouraged! MUST REGISTER
URL:https://bedfordohio.org/event/art-to-go-life-death-and-the-afterlife-in-ancient-egypt/
LOCATION:Cuyahoga County Public Library Bedford Branch\, 70 Columbus Road\, Bedford\, OH\, 44146\, United States
CATEGORIES:Arts & Culture,Bedford Library,Free,Registration Required
END:VEVENT
BEGIN:VEVENT
DTSTART;TZID=America/Detroit:20250909T100000
DTEND;TZID=America/Detroit:20250909T110000
DTSTAMP:20260423T114426
CREATED:20250815T143336Z
LAST-MODIFIED:20250815T143336Z
UID:15685-1757412000-1757415600@bedfordohio.org
SUMMARY:Family Storytime
DESCRIPTION:All ages with caregiver \nJoin us for a music and movement storytime\, with stories\, songs and fingerplays.
URL:https://bedfordohio.org/event/family-storytime-12/2025-09-09/
LOCATION:Cuyahoga County Public Library Bedford Branch\, 70 Columbus Road\, Bedford\, OH\, 44146\, United States
CATEGORIES:Bedford Library,Free,Kids & Family
END:VEVENT
BEGIN:VEVENT
DTSTART;TZID=America/Detroit:20250908T160000
DTEND;TZID=America/Detroit:20250908T183000
DTSTAMP:20260423T114426
CREATED:20250815T143135Z
LAST-MODIFIED:20250815T143135Z
UID:15670-1757347200-1757356200@bedfordohio.org
SUMMARY:Student Success Center
DESCRIPTION:K-8th \nSince 2002\, our FREE Student Success Center’s program has helped thousands of students in grades K–8 improve their grades and subject comprehension. Student Success Centers are available at 10 branches. Students who participate in the program receive homework assistance\nfrom trained tutors in the following subjects: language arts\, math\, reading\, science\, and social studies. MUST REGISTER
URL:https://bedfordohio.org/event/student-success-center-2/2025-09-08/
LOCATION:Cuyahoga County Public Library Bedford Branch\, 70 Columbus Road\, Bedford\, OH\, 44146\, United States
CATEGORIES:Bedford Library,Free,Kids & Family,Registration Required,Schools & Education
END:VEVENT
BEGIN:VEVENT
DTSTART;TZID=America/Detroit:20250908T150000
DTEND;TZID=America/Detroit:20250908T160000
DTSTAMP:20260423T114426
CREATED:20250815T142854Z
LAST-MODIFIED:20250815T142854Z
UID:15645-1757343600-1757347200@bedfordohio.org
SUMMARY:Kids Café
DESCRIPTION:18 & younger \nKids ages 18 and under can get a FREE lunch provided by the Greater Cleveland Food Bank\, while supplies last.
URL:https://bedfordohio.org/event/kids-cafe-2/2025-09-08/
LOCATION:Cuyahoga County Public Library Bedford Branch\, 70 Columbus Road\, Bedford\, OH\, 44146\, United States
CATEGORIES:Bedford Library,Free,Kids & Family
END:VEVENT
BEGIN:VEVENT
DTSTART;TZID=America/Detroit:20250905T160000
DTEND;TZID=America/Detroit:20250905T170000
DTSTAMP:20260423T114426
CREATED:20250815T144112Z
LAST-MODIFIED:20250815T144112Z
UID:15700-1757088000-1757091600@bedfordohio.org
SUMMARY:Pokémon TCG Club 
DESCRIPTION:Join our weekly Pokémon Trading Card Game Club and dive into a world of strategy and fun. Learn how to play and meet fellow fans in a friendly\, welcoming environment. Bring your cards or use ours!
URL:https://bedfordohio.org/event/pokemon-tcg-club/2025-09-05/
LOCATION:Cuyahoga County Public Library Bedford Branch\, 70 Columbus Road\, Bedford\, OH\, 44146\, United States
CATEGORIES:Bedford Library,Free,Kids & Family
END:VEVENT
BEGIN:VEVENT
DTSTART;TZID=America/Detroit:20250905T150000
DTEND;TZID=America/Detroit:20250905T160000
DTSTAMP:20260423T114426
CREATED:20250815T142854Z
LAST-MODIFIED:20250815T142854Z
UID:15644-1757084400-1757088000@bedfordohio.org
SUMMARY:Kids Café
DESCRIPTION:18 & younger \nKids ages 18 and under can get a FREE lunch provided by the Greater Cleveland Food Bank\, while supplies last.
URL:https://bedfordohio.org/event/kids-cafe-2/2025-09-05/
LOCATION:Cuyahoga County Public Library Bedford Branch\, 70 Columbus Road\, Bedford\, OH\, 44146\, United States
CATEGORIES:Bedford Library,Free,Kids & Family
END:VEVENT
BEGIN:VEVENT
DTSTART;TZID=America/Detroit:20250904T160000
DTEND;TZID=America/Detroit:20250904T183000
DTSTAMP:20260423T114426
CREATED:20250815T143135Z
LAST-MODIFIED:20250815T143135Z
UID:15669-1757001600-1757010600@bedfordohio.org
SUMMARY:Student Success Center
DESCRIPTION:K-8th \nSince 2002\, our FREE Student Success Center’s program has helped thousands of students in grades K–8 improve their grades and subject comprehension. Student Success Centers are available at 10 branches. Students who participate in the program receive homework assistance\nfrom trained tutors in the following subjects: language arts\, math\, reading\, science\, and social studies. MUST REGISTER
URL:https://bedfordohio.org/event/student-success-center-2/2025-09-04/
LOCATION:Cuyahoga County Public Library Bedford Branch\, 70 Columbus Road\, Bedford\, OH\, 44146\, United States
CATEGORIES:Bedford Library,Free,Kids & Family,Registration Required,Schools & Education
END:VEVENT
BEGIN:VEVENT
DTSTART;TZID=America/Detroit:20250904T160000
DTEND;TZID=America/Detroit:20250904T170000
DTSTAMP:20260423T114426
CREATED:20250815T143908Z
LAST-MODIFIED:20250815T143908Z
UID:15698-1757001600-1757005200@bedfordohio.org
SUMMARY:Kids Cook!
DESCRIPTION:Grades 3 – 6 \nExpand your cooking skills with quick\, simple\, and delicious recipes. Registration required\, opens August 4th\, 2025\, at 9 AM. This program may include activities that could be considered harmful. In order for your child to participate you must sign the Release and Hold Harmless\nform and return it to the program location at least one week prior to the program’s start date. To access the form and learn more about parent options\, please visit www.cuyahogalibrary.org/parent-options. Participants may be recorded and/or surveyed to capture this program’s effectiveness. MUST REGISTER
URL:https://bedfordohio.org/event/kids-cook-5/
LOCATION:Cuyahoga County Public Library Bedford Branch\, 70 Columbus Road\, Bedford\, OH\, 44146\, United States
CATEGORIES:Arts & Culture,Bedford Library,Free,Kids & Family,Registration Required
END:VEVENT
END:VCALENDAR