BEGIN:VCALENDAR
VERSION:2.0
PRODID:-//The Bedford Tribune - ECPv6.15.20//NONSGML v1.0//EN
CALSCALE:GREGORIAN
METHOD:PUBLISH
X-ORIGINAL-URL:https://bedfordohio.org
X-WR-CALDESC:Events for The Bedford Tribune
REFRESH-INTERVAL;VALUE=DURATION:PT1H
X-Robots-Tag:noindex
X-PUBLISHED-TTL:PT1H
BEGIN:VTIMEZONE
TZID:America/Detroit
BEGIN:DAYLIGHT
TZOFFSETFROM:-0500
TZOFFSETTO:-0400
TZNAME:EDT
DTSTART:20240310T070000
END:DAYLIGHT
BEGIN:STANDARD
TZOFFSETFROM:-0400
TZOFFSETTO:-0500
TZNAME:EST
DTSTART:20241103T060000
END:STANDARD
BEGIN:DAYLIGHT
TZOFFSETFROM:-0500
TZOFFSETTO:-0400
TZNAME:EDT
DTSTART:20250309T070000
END:DAYLIGHT
BEGIN:STANDARD
TZOFFSETFROM:-0400
TZOFFSETTO:-0500
TZNAME:EST
DTSTART:20251102T060000
END:STANDARD
BEGIN:DAYLIGHT
TZOFFSETFROM:-0500
TZOFFSETTO:-0400
TZNAME:EDT
DTSTART:20260308T070000
END:DAYLIGHT
BEGIN:STANDARD
TZOFFSETFROM:-0400
TZOFFSETTO:-0500
TZNAME:EST
DTSTART:20261101T060000
END:STANDARD
END:VTIMEZONE
BEGIN:VEVENT
DTSTART;TZID=America/Detroit:20250908T150000
DTEND;TZID=America/Detroit:20250908T160000
DTSTAMP:20260425T064055
CREATED:20250815T142854Z
LAST-MODIFIED:20250815T142854Z
UID:15645-1757343600-1757347200@bedfordohio.org
SUMMARY:Kids Café
DESCRIPTION:18 & younger \nKids ages 18 and under can get a FREE lunch provided by the Greater Cleveland Food Bank\, while supplies last.
URL:https://bedfordohio.org/event/kids-cafe-2/2025-09-08/
LOCATION:Cuyahoga County Public Library Bedford Branch\, 70 Columbus Road\, Bedford\, OH\, 44146\, United States
CATEGORIES:Bedford Library,Free,Kids & Family
END:VEVENT
BEGIN:VEVENT
DTSTART;TZID=America/Detroit:20250905T160000
DTEND;TZID=America/Detroit:20250905T170000
DTSTAMP:20260425T064055
CREATED:20250815T144112Z
LAST-MODIFIED:20250815T144112Z
UID:15700-1757088000-1757091600@bedfordohio.org
SUMMARY:Pokémon TCG Club 
DESCRIPTION:Join our weekly Pokémon Trading Card Game Club and dive into a world of strategy and fun. Learn how to play and meet fellow fans in a friendly\, welcoming environment. Bring your cards or use ours!
URL:https://bedfordohio.org/event/pokemon-tcg-club/2025-09-05/
LOCATION:Cuyahoga County Public Library Bedford Branch\, 70 Columbus Road\, Bedford\, OH\, 44146\, United States
CATEGORIES:Bedford Library,Free,Kids & Family
END:VEVENT
BEGIN:VEVENT
DTSTART;TZID=America/Detroit:20250905T150000
DTEND;TZID=America/Detroit:20250905T160000
DTSTAMP:20260425T064055
CREATED:20250815T142854Z
LAST-MODIFIED:20250815T142854Z
UID:15644-1757084400-1757088000@bedfordohio.org
SUMMARY:Kids Café
DESCRIPTION:18 & younger \nKids ages 18 and under can get a FREE lunch provided by the Greater Cleveland Food Bank\, while supplies last.
URL:https://bedfordohio.org/event/kids-cafe-2/2025-09-05/
LOCATION:Cuyahoga County Public Library Bedford Branch\, 70 Columbus Road\, Bedford\, OH\, 44146\, United States
CATEGORIES:Bedford Library,Free,Kids & Family
END:VEVENT
BEGIN:VEVENT
DTSTART;TZID=America/Detroit:20250904T160000
DTEND;TZID=America/Detroit:20250904T183000
DTSTAMP:20260425T064055
CREATED:20250815T143135Z
LAST-MODIFIED:20250815T143135Z
UID:15669-1757001600-1757010600@bedfordohio.org
SUMMARY:Student Success Center
DESCRIPTION:K-8th \nSince 2002\, our FREE Student Success Center’s program has helped thousands of students in grades K–8 improve their grades and subject comprehension. Student Success Centers are available at 10 branches. Students who participate in the program receive homework assistance\nfrom trained tutors in the following subjects: language arts\, math\, reading\, science\, and social studies. MUST REGISTER
URL:https://bedfordohio.org/event/student-success-center-2/2025-09-04/
LOCATION:Cuyahoga County Public Library Bedford Branch\, 70 Columbus Road\, Bedford\, OH\, 44146\, United States
CATEGORIES:Bedford Library,Free,Kids & Family,Registration Required,Schools & Education
END:VEVENT
BEGIN:VEVENT
DTSTART;TZID=America/Detroit:20250904T160000
DTEND;TZID=America/Detroit:20250904T170000
DTSTAMP:20260425T064055
CREATED:20250815T143908Z
LAST-MODIFIED:20250815T143908Z
UID:15698-1757001600-1757005200@bedfordohio.org
SUMMARY:Kids Cook!
DESCRIPTION:Grades 3 – 6 \nExpand your cooking skills with quick\, simple\, and delicious recipes. Registration required\, opens August 4th\, 2025\, at 9 AM. This program may include activities that could be considered harmful. In order for your child to participate you must sign the Release and Hold Harmless\nform and return it to the program location at least one week prior to the program’s start date. To access the form and learn more about parent options\, please visit www.cuyahogalibrary.org/parent-options. Participants may be recorded and/or surveyed to capture this program’s effectiveness. MUST REGISTER
URL:https://bedfordohio.org/event/kids-cook-5/
LOCATION:Cuyahoga County Public Library Bedford Branch\, 70 Columbus Road\, Bedford\, OH\, 44146\, United States
CATEGORIES:Arts & Culture,Bedford Library,Free,Kids & Family,Registration Required
END:VEVENT
BEGIN:VEVENT
DTSTART;TZID=America/Detroit:20250904T150000
DTEND;TZID=America/Detroit:20250904T160000
DTSTAMP:20260425T064055
CREATED:20250815T142854Z
LAST-MODIFIED:20250815T142854Z
UID:15643-1756998000-1757001600@bedfordohio.org
SUMMARY:Kids Café
DESCRIPTION:18 & younger \nKids ages 18 and under can get a FREE lunch provided by the Greater Cleveland Food Bank\, while supplies last.
URL:https://bedfordohio.org/event/kids-cafe-2/2025-09-04/
LOCATION:Cuyahoga County Public Library Bedford Branch\, 70 Columbus Road\, Bedford\, OH\, 44146\, United States
CATEGORIES:Bedford Library,Free,Kids & Family
END:VEVENT
BEGIN:VEVENT
DTSTART;TZID=America/Detroit:20250903T190000
DTEND;TZID=America/Detroit:20250903T200000
DTSTAMP:20260425T064055
CREATED:20250815T143726Z
LAST-MODIFIED:20250815T143726Z
UID:15696-1756926000-1756929600@bedfordohio.org
SUMMARY:The Korean War 1950-1953
DESCRIPTION:Adults \nEighty years after the end of the Korean War\, American troops are still stationed in South Korea while North Korea remains a dark and threatening presence in Asia. This presentation will examine the role the United States played in the Korean War (1950 – 1953) and how that\nconflict set the stage for eight decades of American military presence in Asia. Presented by Walter S. Topp\, journalist\, non-fiction author\, and tri-c instructor.
URL:https://bedfordohio.org/event/the-korean-war-1950-1953/
LOCATION:Cuyahoga County Public Library Bedford Branch\, 70 Columbus Road\, Bedford\, OH\, 44146\, United States
CATEGORIES:Bedford Library,Free
END:VEVENT
BEGIN:VEVENT
DTSTART;TZID=America/Detroit:20250903T160000
DTEND;TZID=America/Detroit:20250903T183000
DTSTAMP:20260425T064055
CREATED:20250815T143135Z
LAST-MODIFIED:20250815T143135Z
UID:15668-1756915200-1756924200@bedfordohio.org
SUMMARY:Student Success Center
DESCRIPTION:K-8th \nSince 2002\, our FREE Student Success Center’s program has helped thousands of students in grades K–8 improve their grades and subject comprehension. Student Success Centers are available at 10 branches. Students who participate in the program receive homework assistance\nfrom trained tutors in the following subjects: language arts\, math\, reading\, science\, and social studies. MUST REGISTER
URL:https://bedfordohio.org/event/student-success-center-2/2025-09-03/
LOCATION:Cuyahoga County Public Library Bedford Branch\, 70 Columbus Road\, Bedford\, OH\, 44146\, United States
CATEGORIES:Bedford Library,Free,Kids & Family,Registration Required,Schools & Education
END:VEVENT
BEGIN:VEVENT
DTSTART;TZID=America/Detroit:20250903T150000
DTEND;TZID=America/Detroit:20250903T160000
DTSTAMP:20260425T064055
CREATED:20250815T142854Z
LAST-MODIFIED:20250815T142854Z
UID:15642-1756911600-1756915200@bedfordohio.org
SUMMARY:Kids Café
DESCRIPTION:18 & younger \nKids ages 18 and under can get a FREE lunch provided by the Greater Cleveland Food Bank\, while supplies last.
URL:https://bedfordohio.org/event/kids-cafe-2/2025-09-03/
LOCATION:Cuyahoga County Public Library Bedford Branch\, 70 Columbus Road\, Bedford\, OH\, 44146\, United States
CATEGORIES:Bedford Library,Free,Kids & Family
END:VEVENT
BEGIN:VEVENT
DTSTART;TZID=America/Detroit:20250902T180000
DTEND;TZID=America/Detroit:20250902T190000
DTSTAMP:20260425T064055
CREATED:20250815T143506Z
LAST-MODIFIED:20250820T115437Z
UID:15690-1756836000-1756839600@bedfordohio.org
SUMMARY:Family Storytime
DESCRIPTION:All ages with caregiver \nJoin us for a music and movement storytime\, with stories\, songs and fingerplays.
URL:https://bedfordohio.org/event/family-storytime-13/2025-09-02/
LOCATION:Cuyahoga County Public Library Bedford Branch\, 70 Columbus Road\, Bedford\, OH\, 44146\, United States
CATEGORIES:Bedford Library,Free,Kids & Family
END:VEVENT
BEGIN:VEVENT
DTSTART;TZID=America/Detroit:20250902T160000
DTEND;TZID=America/Detroit:20250902T183000
DTSTAMP:20260425T064055
CREATED:20250815T143135Z
LAST-MODIFIED:20250815T143135Z
UID:15667-1756828800-1756837800@bedfordohio.org
SUMMARY:Student Success Center
DESCRIPTION:K-8th \nSince 2002\, our FREE Student Success Center’s program has helped thousands of students in grades K–8 improve their grades and subject comprehension. Student Success Centers are available at 10 branches. Students who participate in the program receive homework assistance\nfrom trained tutors in the following subjects: language arts\, math\, reading\, science\, and social studies. MUST REGISTER
URL:https://bedfordohio.org/event/student-success-center-2/2025-09-02/
LOCATION:Cuyahoga County Public Library Bedford Branch\, 70 Columbus Road\, Bedford\, OH\, 44146\, United States
CATEGORIES:Bedford Library,Free,Kids & Family,Registration Required,Schools & Education
END:VEVENT
BEGIN:VEVENT
DTSTART;TZID=America/Detroit:20250902T150000
DTEND;TZID=America/Detroit:20250902T160000
DTSTAMP:20260425T064055
CREATED:20250815T142854Z
LAST-MODIFIED:20250815T142854Z
UID:15641-1756825200-1756828800@bedfordohio.org
SUMMARY:Kids Café
DESCRIPTION:18 & younger \nKids ages 18 and under can get a FREE lunch provided by the Greater Cleveland Food Bank\, while supplies last.
URL:https://bedfordohio.org/event/kids-cafe-2/2025-09-02/
LOCATION:Cuyahoga County Public Library Bedford Branch\, 70 Columbus Road\, Bedford\, OH\, 44146\, United States
CATEGORIES:Bedford Library,Free,Kids & Family
END:VEVENT
BEGIN:VEVENT
DTSTART;TZID=America/Detroit:20250902T100000
DTEND;TZID=America/Detroit:20250902T110000
DTSTAMP:20260425T064055
CREATED:20250815T143336Z
LAST-MODIFIED:20250815T143336Z
UID:15678-1756807200-1756810800@bedfordohio.org
SUMMARY:Family Storytime
DESCRIPTION:All ages with caregiver \nJoin us for a music and movement storytime\, with stories\, songs and fingerplays.
URL:https://bedfordohio.org/event/family-storytime-12/2025-09-02/
LOCATION:Cuyahoga County Public Library Bedford Branch\, 70 Columbus Road\, Bedford\, OH\, 44146\, United States
CATEGORIES:Bedford Library,Free,Kids & Family
END:VEVENT
BEGIN:VEVENT
DTSTART;TZID=America/Detroit:20250901T160000
DTEND;TZID=America/Detroit:20250901T183000
DTSTAMP:20260425T064055
CREATED:20250815T143135Z
LAST-MODIFIED:20250815T143203Z
UID:15665-1756742400-1756751400@bedfordohio.org
SUMMARY:Student Success Center
DESCRIPTION:K-8th \nSince 2002\, our FREE Student Success Center’s program has helped thousands of students in grades K–8 improve their grades and subject comprehension. Student Success Centers are available at 10 branches. Students who participate in the program receive homework assistance\nfrom trained tutors in the following subjects: language arts\, math\, reading\, science\, and social studies. MUST REGISTER
URL:https://bedfordohio.org/event/student-success-center-2/2025-09-01/
LOCATION:Cuyahoga County Public Library Bedford Branch\, 70 Columbus Road\, Bedford\, OH\, 44146\, United States
CATEGORIES:Bedford Library,Free,Kids & Family,Registration Required,Schools & Education
END:VEVENT
BEGIN:VEVENT
DTSTART;TZID=America/Detroit:20250901T150000
DTEND;TZID=America/Detroit:20250901T160000
DTSTAMP:20260425T064055
CREATED:20250815T142854Z
LAST-MODIFIED:20250815T142854Z
UID:15640-1756738800-1756742400@bedfordohio.org
SUMMARY:Kids Café
DESCRIPTION:18 & younger \nKids ages 18 and under can get a FREE lunch provided by the Greater Cleveland Food Bank\, while supplies last.
URL:https://bedfordohio.org/event/kids-cafe-2/2025-09-01/
LOCATION:Cuyahoga County Public Library Bedford Branch\, 70 Columbus Road\, Bedford\, OH\, 44146\, United States
CATEGORIES:Bedford Library,Free,Kids & Family
END:VEVENT
BEGIN:VEVENT
DTSTART;TZID=America/Detroit:20250828T190000
DTEND;TZID=America/Detroit:20250828T200000
DTSTAMP:20260425T064055
CREATED:20250718T131834Z
LAST-MODIFIED:20250718T131834Z
UID:15530-1756407600-1756411200@bedfordohio.org
SUMMARY:The African American Authors Book Group  
DESCRIPTION:In-Person or Virtual — All Adults Are Welcome \nThe African American Authors Book Group meets the last Thursday of the month. All Adults Are Welcome. August Title: I Am Ayah: The Way Home by Donna Hill. Summary: “Alessandra Fleming has spent most of her life running from her past. Her budding photography\ncareer\, her life in Manhattan\, all serve to distract from the secrets and guilt she’s never been able to face. Then the call. Her estranged father is in the hospital…and Alessandra must return home to Sag Harbor\, crumbling the first wall between her past and her present.” “A Back\ncouple’s romance ties together the past and the present in Hill’s novel. The author interweaves a present-day storyline—photographer Alessandra Fleming leaves Manhattan for her hometown of Sag Harbor\, New York\, after her widowed and estranged father is hospitalized—with a series of first-person narratives that relate the story of Ayah\, a woman kidnapped and enslaved in the 19th century. When she returns to Sag Harbor\, Alessandra meets her neighbor’s grandson Zach Renard\, an ethnographer studying the history of free Black communities on Long Island.”
URL:https://bedfordohio.org/event/the-african-american-authors-book-group-2/
LOCATION:Cuyahoga County Public Library Bedford Branch\, 70 Columbus Road\, Bedford\, OH\, 44146\, United States
CATEGORIES:Arts & Culture,Bedford Library,Free
END:VEVENT
BEGIN:VEVENT
DTSTART;TZID=America/Detroit:20250821T153000
DTEND;TZID=America/Detroit:20250821T163000
DTSTAMP:20260425T064055
CREATED:20250718T130608Z
LAST-MODIFIED:20250718T130608Z
UID:15518-1755790200-1755793800@bedfordohio.org
SUMMARY:Engineering Hour
DESCRIPTION:Grades 1 -5 \nBring your creativity and dexterity for an hour of building!
URL:https://bedfordohio.org/event/engineering-hour/2025-08-21/
LOCATION:Cuyahoga County Public Library Bedford Branch\, 70 Columbus Road\, Bedford\, OH\, 44146\, United States
CATEGORIES:Bedford Library,Free,Kids & Family
END:VEVENT
BEGIN:VEVENT
DTSTART;TZID=America/Detroit:20250820T133000
DTEND;TZID=America/Detroit:20250820T153000
DTSTAMP:20260425T064055
CREATED:20250718T131554Z
LAST-MODIFIED:20250718T131554Z
UID:15528-1755696600-1755703800@bedfordohio.org
SUMMARY:Mobile Pantry
DESCRIPTION:Free\, fresh produce distribution \nCuyahoga County Public Library is collaborating with the Greater Cleveland Food Bank to distribute free\, fresh produce to those in need. This event will be held rain or shine. First come\, first-served basis\, adults of any age\, zip code\, income level. Each vehicle can have up to 4\n“families” (such as if single seniors are riding together). Vehicles are preferred over walk-ups\, for safety reasons.
URL:https://bedfordohio.org/event/mobile-pantry-3/
LOCATION:Cuyahoga County Public Library Bedford Branch\, 70 Columbus Road\, Bedford\, OH\, 44146\, United States
CATEGORIES:Bedford Library,Free
END:VEVENT
BEGIN:VEVENT
DTSTART;TZID=America/Detroit:20250820T120000
DTEND;TZID=America/Detroit:20250820T130000
DTSTAMP:20260425T064055
CREATED:20250718T125836Z
LAST-MODIFIED:20250718T125836Z
UID:15511-1755691200-1755694800@bedfordohio.org
SUMMARY:Summer Lunch
DESCRIPTION:Kids ages 18 & younger \nMonday through Friday during the summer we collaborate with the Greater Cleveland Food Bank to provide children with free healthy lunches at select branches. The Summer Lunch program is open to all kids ages 18 and younger. The USDA is an equal opportunity provider and employer.
URL:https://bedfordohio.org/event/summer-lunch-3/2025-08-20/
LOCATION:Cuyahoga County Public Library Bedford Branch\, 70 Columbus Road\, Bedford\, OH\, 44146\, United States
CATEGORIES:Bedford Library,Free
END:VEVENT
BEGIN:VEVENT
DTSTART;TZID=America/Detroit:20250819T120000
DTEND;TZID=America/Detroit:20250819T130000
DTSTAMP:20260425T064055
CREATED:20250718T125836Z
LAST-MODIFIED:20250718T125836Z
UID:15510-1755604800-1755608400@bedfordohio.org
SUMMARY:Summer Lunch
DESCRIPTION:Kids ages 18 & younger \nMonday through Friday during the summer we collaborate with the Greater Cleveland Food Bank to provide children with free healthy lunches at select branches. The Summer Lunch program is open to all kids ages 18 and younger. The USDA is an equal opportunity provider and employer.
URL:https://bedfordohio.org/event/summer-lunch-3/2025-08-19/
LOCATION:Cuyahoga County Public Library Bedford Branch\, 70 Columbus Road\, Bedford\, OH\, 44146\, United States
CATEGORIES:Bedford Library,Free
END:VEVENT
BEGIN:VEVENT
DTSTART;TZID=America/Detroit:20250818T120000
DTEND;TZID=America/Detroit:20250818T130000
DTSTAMP:20260425T064055
CREATED:20250718T125836Z
LAST-MODIFIED:20250718T125836Z
UID:15509-1755518400-1755522000@bedfordohio.org
SUMMARY:Summer Lunch
DESCRIPTION:Kids ages 18 & younger \nMonday through Friday during the summer we collaborate with the Greater Cleveland Food Bank to provide children with free healthy lunches at select branches. The Summer Lunch program is open to all kids ages 18 and younger. The USDA is an equal opportunity provider and employer.
URL:https://bedfordohio.org/event/summer-lunch-3/2025-08-18/
LOCATION:Cuyahoga County Public Library Bedford Branch\, 70 Columbus Road\, Bedford\, OH\, 44146\, United States
CATEGORIES:Bedford Library,Free
END:VEVENT
BEGIN:VEVENT
DTSTART;TZID=America/Detroit:20250815T120000
DTEND;TZID=America/Detroit:20250815T130000
DTSTAMP:20260425T064055
CREATED:20250718T125836Z
LAST-MODIFIED:20250718T125836Z
UID:15507-1755259200-1755262800@bedfordohio.org
SUMMARY:Summer Lunch
DESCRIPTION:Kids ages 18 & younger \nMonday through Friday during the summer we collaborate with the Greater Cleveland Food Bank to provide children with free healthy lunches at select branches. The Summer Lunch program is open to all kids ages 18 and younger. The USDA is an equal opportunity provider and employer.
URL:https://bedfordohio.org/event/summer-lunch-3/2025-08-15/
LOCATION:Cuyahoga County Public Library Bedford Branch\, 70 Columbus Road\, Bedford\, OH\, 44146\, United States
CATEGORIES:Bedford Library,Free
END:VEVENT
BEGIN:VEVENT
DTSTART;TZID=America/Detroit:20250814T120000
DTEND;TZID=America/Detroit:20250814T130000
DTSTAMP:20260425T064055
CREATED:20250718T125836Z
LAST-MODIFIED:20250718T125836Z
UID:15506-1755172800-1755176400@bedfordohio.org
SUMMARY:Summer Lunch
DESCRIPTION:Kids ages 18 & younger \nMonday through Friday during the summer we collaborate with the Greater Cleveland Food Bank to provide children with free healthy lunches at select branches. The Summer Lunch program is open to all kids ages 18 and younger. The USDA is an equal opportunity provider and employer.
URL:https://bedfordohio.org/event/summer-lunch-3/2025-08-14/
LOCATION:Cuyahoga County Public Library Bedford Branch\, 70 Columbus Road\, Bedford\, OH\, 44146\, United States
CATEGORIES:Bedford Library,Free
END:VEVENT
BEGIN:VEVENT
DTSTART;TZID=America/Detroit:20250813T180000
DTEND;TZID=America/Detroit:20250813T190000
DTSTAMP:20260425T064055
CREATED:20250718T131425Z
LAST-MODIFIED:20250718T131425Z
UID:15526-1755108000-1755111600@bedfordohio.org
SUMMARY:Teen Wellness Wednesday (Sewing) 
DESCRIPTION:Learn basic machine sewing skills while making your own microwavable heating pad! All materials are provided. MUST REGISTER
URL:https://bedfordohio.org/event/teen-wellness-wednesday-sewing/
LOCATION:Cuyahoga County Public Library Bedford Branch\, 70 Columbus Road\, Bedford\, OH\, 44146\, United States
CATEGORIES:Bedford Library,Free,Registration Required
END:VEVENT
BEGIN:VEVENT
DTSTART;TZID=America/Detroit:20250813T140000
DTEND;TZID=America/Detroit:20250813T150000
DTSTAMP:20260425T064055
CREATED:20250718T131214Z
LAST-MODIFIED:20250718T131214Z
UID:15524-1755093600-1755097200@bedfordohio.org
SUMMARY:Ellenwood Book Discussion
DESCRIPTION:Adults \nThis book discussion is held on the second Wednesday of each month at 2:00pm at Ellenwood Center. The Ellenwood Center is located at 124 Ellenwood Ave Bedford OH 44146. Copies of the books are available at both Ellenwood and the Bedford Library a month before the discussion date. August 13: Before the Coffee Gets Cold: A Novel by Toshikazu Kawaguchi.
URL:https://bedfordohio.org/event/ellenwood-book-discussion-6/
LOCATION:Ellenwood Center\, 124 Ellenwood Ave\, Bedford\, OH\, 44146\, United States
CATEGORIES:Ellenwood Recreation Center,Free
END:VEVENT
BEGIN:VEVENT
DTSTART;TZID=America/Detroit:20250813T120000
DTEND;TZID=America/Detroit:20250813T130000
DTSTAMP:20260425T064055
CREATED:20250718T125836Z
LAST-MODIFIED:20250718T125836Z
UID:15505-1755086400-1755090000@bedfordohio.org
SUMMARY:Summer Lunch
DESCRIPTION:Kids ages 18 & younger \nMonday through Friday during the summer we collaborate with the Greater Cleveland Food Bank to provide children with free healthy lunches at select branches. The Summer Lunch program is open to all kids ages 18 and younger. The USDA is an equal opportunity provider and employer.
URL:https://bedfordohio.org/event/summer-lunch-3/2025-08-13/
LOCATION:Cuyahoga County Public Library Bedford Branch\, 70 Columbus Road\, Bedford\, OH\, 44146\, United States
CATEGORIES:Bedford Library,Free
END:VEVENT
BEGIN:VEVENT
DTSTART;TZID=America/Detroit:20250813T100000
DTEND;TZID=America/Detroit:20250813T110000
DTSTAMP:20260425T064055
CREATED:20250718T130305Z
LAST-MODIFIED:20250718T130305Z
UID:15515-1755079200-1755082800@bedfordohio.org
SUMMARY:Kindergarten Countdown 
DESCRIPTION:Children entering Kindergarten in Fall and their caregiver \nJoin us as we help your child build kindergarten readiness skills in a program aligned to Ohio’s Early Childhood Standards. MUST REGISTER
URL:https://bedfordohio.org/event/kindergarten-countdown-5/2025-08-13/
LOCATION:Cuyahoga County Public Library Bedford Branch\, 70 Columbus Road\, Bedford\, OH\, 44146\, United States
CATEGORIES:Bedford Library,Free,Kids & Family,Registration Required,Schools & Education
END:VEVENT
BEGIN:VEVENT
DTSTART;TZID=America/Detroit:20250812T120000
DTEND;TZID=America/Detroit:20250812T130000
DTSTAMP:20260425T064055
CREATED:20250718T125836Z
LAST-MODIFIED:20250718T125836Z
UID:15504-1755000000-1755003600@bedfordohio.org
SUMMARY:Summer Lunch
DESCRIPTION:Kids ages 18 & younger \nMonday through Friday during the summer we collaborate with the Greater Cleveland Food Bank to provide children with free healthy lunches at select branches. The Summer Lunch program is open to all kids ages 18 and younger. The USDA is an equal opportunity provider and employer.
URL:https://bedfordohio.org/event/summer-lunch-3/2025-08-12/
LOCATION:Cuyahoga County Public Library Bedford Branch\, 70 Columbus Road\, Bedford\, OH\, 44146\, United States
CATEGORIES:Bedford Library,Free
END:VEVENT
BEGIN:VEVENT
DTSTART;TZID=America/Detroit:20250811T120000
DTEND;TZID=America/Detroit:20250811T130000
DTSTAMP:20260425T064055
CREATED:20250718T125836Z
LAST-MODIFIED:20250718T125836Z
UID:15503-1754913600-1754917200@bedfordohio.org
SUMMARY:Summer Lunch
DESCRIPTION:Kids ages 18 & younger \nMonday through Friday during the summer we collaborate with the Greater Cleveland Food Bank to provide children with free healthy lunches at select branches. The Summer Lunch program is open to all kids ages 18 and younger. The USDA is an equal opportunity provider and employer.
URL:https://bedfordohio.org/event/summer-lunch-3/2025-08-11/
LOCATION:Cuyahoga County Public Library Bedford Branch\, 70 Columbus Road\, Bedford\, OH\, 44146\, United States
CATEGORIES:Bedford Library,Free
END:VEVENT
BEGIN:VEVENT
DTSTART;TZID=America/Detroit:20250811T100000
DTEND;TZID=America/Detroit:20250811T110000
DTSTAMP:20260425T064055
CREATED:20250718T130305Z
LAST-MODIFIED:20250718T130305Z
UID:15514-1754906400-1754910000@bedfordohio.org
SUMMARY:Kindergarten Countdown 
DESCRIPTION:Children entering Kindergarten in Fall and their caregiver \nJoin us as we help your child build kindergarten readiness skills in a program aligned to Ohio’s Early Childhood Standards. MUST REGISTER
URL:https://bedfordohio.org/event/kindergarten-countdown-5/2025-08-11/
LOCATION:Cuyahoga County Public Library Bedford Branch\, 70 Columbus Road\, Bedford\, OH\, 44146\, United States
CATEGORIES:Bedford Library,Free,Kids & Family,Registration Required,Schools & Education
END:VEVENT
END:VCALENDAR